BEGIN:VCALENDAR
PRODID:-//Compnay Inc//Product Application//EN
VERSION:2.0
METHOD:PUBLISH
BEGIN:VEVENT
DTSTART:20180608T220000Z
DTEND:20180609T215900Z
DTSTAMP:20260422T085717Z
UID:9625c3c1-9dd3-40a2-a9d5-96ae14324140
CREATED:20260422T085717Z
DESCRIPTION:https://www.oldtimerweb.nl/oldtimer-evenementen/coppa-classic-short-tour_10179.aspx
LAST-MODIFIED:20260422T085717Z
LOCATION:Polderstraat 51\, 2200 Westerlo\, BE
SEQUENCE:0
STATUS:CONFIRMED
SUMMARY:Coppa Classic Short Tour
TRANSP:OPAQUE
END:VEVENT
END:VCALENDAR
